BEGIN:VCALENDAR
BEGIN:VEVENT
DESCRIPTION:\nMore Information: https://prod5.agileticketing.net/websales/pages/TicketSearchCriteria.aspx?evtInfo=605879~2afa4f09-abf4-418d-b15f-ebcd5c076371&\n\nTICKET INCLUDES: Complimentary Breakfast, All 6 Talks, a Book Signing, and Wine & Cheese Closing reception with the speakers.\nFULL-DAY TICKETS ONLY, Re-entry Permitted.\nNO Tickets will be sold for individual talks or partial parts of the day.\n\n*special pricing is available for first responders, active military, veterans, and those with special needs. For more information, please email info@thechurchsagharbor.org
DTSTART:20260411T133000Z
DTEND:20260411T220000Z
LOCATION:The Church, 48 Madison St, Sag Harbor, NY, 11963
SUMMARY:2026 Creativity Conference
UID:605879
DTSTAMP:20260421T111153Z
END:VEVENT
END:VCALENDAR
