BEGIN:VCALENDAR
BEGIN:VEVENT
DESCRIPTION:\nMore Information: https://prod5.agileticketing.net/websales/pages/TicketSearchCriteria.aspx?evtInfo=621768~2afa4f09-abf4-418d-b15f-ebcd5c076371&\n\nMichael J. Coppola, a multifaceted performer and Senior at Ross School, joins us at The Church for a special one-of-a-kind evening of songs and stories designed to delight, inspire, and lift our spirits. Melodies with Michael is an intimate concert that journeys through a range of musical styles, from beloved musical theater classics to contemporary pop favorites. Hear favorites like “Out There” from The Hunchback of Notre Dame and “Somewhere” from West Side Story and more! Featuring a curated selection of songs and artists that have shaped his voice and passion, Michael invites the audience into his world, sharing not only the music he loves, but the personal experiences and artistic growth behind it.  Michael is joined by collaborative pianist Amanda Jones.
DTSTART:20260509T223000Z
DTEND:20260510T000000Z
LOCATION:The Church, 48 Madison St, Sag Harbor, NY, 11963
SUMMARY:CONCERT: Melodies with Michael J Coppola
UID:621768
DTSTAMP:20260424T173653Z
END:VEVENT
END:VCALENDAR
