BEGIN:VCALENDAR
BEGIN:VEVENT
DESCRIPTION:\nMore Information: https://prod5.agileticketing.net/websales/pages/TicketSearchCriteria.aspx?evtInfo=604644~4e8b4fa5-aaf4-4669-af20-791dec4fd008&\n\nA giant octopus, whose feeding habits have been affected by radiation from H-Bomb tests, rises from the Mindanao Deep to terrorize the California Coast.
DTSTART:20260628T180000Z
DTEND:20260628T191900Z
LOCATION:The State Theatre, 1307 J Street, Modesto, CA, 95354
SUMMARY:It Came from Beneath the Sea
UID:604644
DTSTAMP:20260422T094613Z
END:VEVENT
END:VCALENDAR
