BEGIN:VCALENDAR
BEGIN:VEVENT
DESCRIPTION:\nMore Information: https://prod5.agileticketing.net/websales/pages/TicketSearchCriteria.aspx?evtInfo=617688~4e8b4fa5-aaf4-4669-af20-791dec4fd008&\n\nLightning McQueen, a hotshot rookie race car driven to succeed, discovers that life is about the journey, not the finish line, when he finds himself unexpectedly detoured in the sleepy Route 66 town of Radiator Springs. En route across the country to the big Piston Cup Championship in California to compete against two seasoned pros, McQueen gets to know the town's offbeat characters.
DTSTART:20260620T170000Z
DTEND:20260620T185700Z
LOCATION:The State Theatre, 1307 J Street, Modesto, CA, 95354
SUMMARY:Cars
UID:617688
DTSTAMP:20260419T070348Z
END:VEVENT
END:VCALENDAR
