BEGIN:VCALENDAR
BEGIN:VEVENT
DESCRIPTION:\nMore Information: https://prod5.agileticketing.net/websales/pages/TicketSearchCriteria.aspx?evtInfo=620845~4e8b4fa5-aaf4-4669-af20-791dec4fd008&\n\nWhat’s the highest-grossing musical of all time? Grease! Could it get any better than the 1978 original? You bet! Join us for our annual screening of the Grease Sing-Along! Dress up as your favorite character from the film and dance in the aisles while Rydell High’s most famous graduating class – including greaser Danny Zuko (John Travolta), good girl Sandy Olsen (Olivia Newton-John) , the T-Birds and the Pink Ladies – romp their way through a summer of love. Come to The State and sing away your cares to favorites from “You’re The One (That I Want),” “Summer Nights,” and “Beauty School Dropout,” to the now-famous “Greased Lightning.”
DTSTART:20260613T210000Z
DTEND:20260613T225000Z
LOCATION:The State Theatre, 1307 J Street, Modesto, CA, 95354
SUMMARY:Grease Sing-Along
UID:620845
DTSTAMP:20260422T093926Z
END:VEVENT
END:VCALENDAR
