BEGIN:VCALENDAR
BEGIN:VEVENT
DESCRIPTION:\nMore Information: https://prod5.agileticketing.net/websales/pages/TicketSearchCriteria.aspx?evtInfo=621423~4e8b4fa5-aaf4-4669-af20-791dec4fd008&\n\n
DTSTART:20270116T220000Z
DTEND:20270117T000000Z
LOCATION:The State Theatre, 1307 J Street, Modesto, CA, 95354
SUMMARY:Opera Modesto Presents: The Little Prince
UID:621423
DTSTAMP:20260423T073607Z
END:VEVENT
END:VCALENDAR
