BEGIN:VCALENDAR
BEGIN:VEVENT
DESCRIPTION:\nMore Information: https://prod5.agileticketing.net/websales/pages/TicketSearchCriteria.aspx?evtInfo=621530~4e8b4fa5-aaf4-4669-af20-791dec4fd008&\n\nAn intimate look at the life, career and process of one of the most accomplished songwriters of all time, Diane Warren.
DTSTART:20260520T230000Z
DTEND:20260521T003200Z
LOCATION:The State Theatre, 1307 J Street, Modesto, CA, 95354
SUMMARY:Diane Warren: Relentless
UID:621530
DTSTAMP:20260424T094428Z
END:VEVENT
END:VCALENDAR
