BEGIN:VCALENDAR
BEGIN:VEVENT
DESCRIPTION:\nMore Information: https://prod5.agileticketing.net/websales/pages/TicketSearchCriteria.aspx?evtInfo=589580~5ac2ccc1-54af-4b64-ae9b-7b0df253cfe3&\n\nJoin the Arizona Historical Society and Will Moore for an installment of Arizona Histories, American Stories series celebrating Arizona's role in 250 years of American history.\n\nThe Southwest is home to some of the earliest and most interesting of the National Park Service national monuments. These sites – preserved for their scientific and historic value – include cliff dwellings, Spanish missions, petroglyphs, giant cactus, and natural bridges. Beginning early in the last century, one man – Frank Pinkley – was superintendent for the entire system of thirty Southwestern national monuments. \n\nHelp us keep programming free! Consider registering as a supporter and making a $10 donation to the Arizona Historical Society.\n\n
DTSTART:20260422T190000Z
DTEND:20260422T200000Z
LOCATION:Virtual Screening Room, 949 E. 2nd Street, Tucson, AZ, 85719
SUMMARY:Southwestern National Monuments: the Early Years
UID:589580
DTSTAMP:20260421T150316Z
END:VEVENT
END:VCALENDAR
