BEGIN:VCALENDAR
BEGIN:VEVENT
DESCRIPTION:\nMore Information: https://prod5.agileticketing.net/websales/pages/TicketSearchCriteria.aspx?evtInfo=454437~6728ed3e-dade-4087-9fc1-a95f5c0f83a1&\n\nNew York, 1961. Against the backdrop of a vibrant music scene and tumultuous cultural upheaval, an enigmatic 19-year-old from Minnesota arrives with his guitar and revolutionary talent, destined to change the course of American music. He forges intimate relationships with music icons of Greenwich Village on his meteoric rise, culminating in a groundbreaking and controversial performance that reverberates worldwide. Timothée Chalamet stars and sings as Bob Dylan in James Mangold’s A COMPLETE UNKNOWN, the electric true story behind the rise of one of the most iconic singer-songwriters in history.
DTSTART:20250106T204500Z
DTEND:20250106T230600Z
LOCATION:PFS - Bourse Theater 4, 400 Ranstead St., Philadelphia, PA, 19106
SUMMARY:A COMPLETE UNKNOWN
UID:454437
DTSTAMP:20260425T070905Z
END:VEVENT
END:VCALENDAR
