BEGIN:VCALENDAR
BEGIN:VEVENT
DESCRIPTION:\nMore Information: https://prod5.agileticketing.net/websales/pages/TicketSearchCriteria.aspx?evtInfo=580943~6c8c0697-5bfe-46a4-9ff7-3b01a44d6e6f&\n\nThe powerful story of love and loss that inspired the creation of Shakespeare's timeless masterpiece, Hamlet.
DTSTART:20251215T000000Z
DTEND:20251215T021800Z
LOCATION:Avalon 1, 5612 Connecticut Ave NW, Washington, DC, 20015
SUMMARY:Hamnet
UID:580943
DTSTAMP:20260422T195243Z
END:VEVENT
END:VCALENDAR
