BEGIN:VCALENDAR
BEGIN:VEVENT
DESCRIPTION:\nMore Information: https://prod5.agileticketing.net/websales/pages/TicketSearchCriteria.aspx?evtInfo=580972~6c8c0697-5bfe-46a4-9ff7-3b01a44d6e6f&\n\nSisters Nora and Agnes reunite with their estranged father, the charismatic Gustav, a once-renowned director who offers stage actress Nora a role in what he hopes will be his comeback film. When Nora turns it down, she soon discovers he has given her part to an eager young Hollywood star.
DTSTART:20251215T003000Z
DTEND:20251215T025500Z
LOCATION:Avalon 2, 5612 Connecticut Ave NW, Washington, DC, 20015
SUMMARY:Affeksjonsverdi SENTIMENTAL VALUE
UID:580972
DTSTAMP:20260422T200454Z
END:VEVENT
END:VCALENDAR
