BEGIN:VCALENDAR
BEGIN:VEVENT
DESCRIPTION:\nMore Information: https://prod5.agileticketing.net/websales/pages/TicketSearchCriteria.aspx?evtInfo=616488~6c8c0697-5bfe-46a4-9ff7-3b01a44d6e6f&\n\nBased on the real life story of legendary cryptanalyst Alan Turing, the film portrays the nail-biting race against time by Turing and his brilliant team of code-breakers at Britain's top-secret Government Code and Cypher School at Bletchley Park, during the darkest days of World War II.
DTSTART:20260422T233000Z
DTEND:20260423T012300Z
LOCATION:Avalon 1, 5612 Connecticut Ave NW, Washington, DC, 20015
SUMMARY:The Imitation Game
UID:616488
DTSTAMP:20260422T173956Z
END:VEVENT
END:VCALENDAR
