BEGIN:VCALENDAR
BEGIN:VEVENT
DESCRIPTION:\nMore Information: https://prod5.agileticketing.net/websales/pages/TicketSearchCriteria.aspx?evtInfo=618224~6c8c0697-5bfe-46a4-9ff7-3b01a44d6e6f&\n\nScience teacher Ryland Grace wakes up on a spaceship light years from home with no recollection of who he is or how he got there. As his memory returns, he begins to uncover his mission: solve the riddle of the mysterious substance causing the sun to die out. He must call on his scientific knowledge and unorthodox ideas to save everything on Earth from extinction… but an unexpected friendship means he may not have to do it alone.
DTSTART:20260422T193000Z
DTEND:20260422T220700Z
LOCATION:Avalon 2, 5612 Connecticut Ave NW, Washington, DC, 20015
SUMMARY:Project Hail Mary
UID:618224
DTSTAMP:20260422T174035Z
END:VEVENT
END:VCALENDAR
