BEGIN:VCALENDAR
BEGIN:VEVENT
DESCRIPTION:\nMore Information: https://prod5.agileticketing.net/websales/pages/TicketSearchCriteria.aspx?evtInfo=618227~6c8c0697-5bfe-46a4-9ff7-3b01a44d6e6f&\n\nThe estranged children of a once-famous artist hire a forger to complete his unfinished works so they can be "discovered" and sold after his death.
DTSTART:20260423T180000Z
DTEND:20260423T194000Z
LOCATION:Avalon 1, 5612 Connecticut Ave NW, Washington, DC, 20015
SUMMARY:The Christophers
UID:618227
DTSTAMP:20260423T094854Z
END:VEVENT
END:VCALENDAR
