BEGIN:VCALENDAR
BEGIN:VEVENT
DESCRIPTION:\nMore Information: https://prod5.agileticketing.net/websales/pages/TicketSearchCriteria.aspx?evtInfo=619014~95ec474a-4011-46dd-a082-6e9aad33ab91&\n\nTennessee Tech Football Alumni Reunion Weekend & Golf Classic featuring the Tony Stone BBQ Dinner - July 10-12
DTSTART:20260709T220000Z
DTEND:20260712T020000Z
LOCATION:Cookeville, TN, 1 William L Jones Dr, Cookeville, TN, 38501
SUMMARY:2026 Football Alumni Weekend
UID:619014
DTSTAMP:20260419T191009Z
END:VEVENT
END:VCALENDAR
