BEGIN:VCALENDAR
BEGIN:VEVENT
DESCRIPTION:\nMore Information: https://prod5.agileticketing.net/websales/pages/TicketSearchCriteria.aspx?evtInfo=508687~99f4e122-4b84-4e20-8248-80514901e7da&\n\n
DTSTART:20260502T230000Z
DTEND:20260503T011000Z
LOCATION:Theater 3, 20 South Court Street, Athens, OH, 45701
SUMMARY:OU School of Film: MFA Thesis Screening
UID:508687
DTSTAMP:20260424T193549Z
END:VEVENT
END:VCALENDAR
