BEGIN:VCALENDAR
BEGIN:VEVENT
DESCRIPTION:\nMore Information: https://prod5.agileticketing.net/websales/pages/TicketSearchCriteria.aspx?evtInfo=618137~99f4e122-4b84-4e20-8248-80514901e7da&\n\n
DTSTART:20260426T203000Z
DTEND:20260426T230000Z
LOCATION:Theater 3, 20 South Court Street, Athens, OH, 45701
SUMMARY:MDIA Students: Thesis Screenings
UID:618137
DTSTAMP:20260424T080505Z
END:VEVENT
END:VCALENDAR
