BEGIN:VCALENDAR
BEGIN:VEVENT
DESCRIPTION:\nMore Information: https://prod5.agileticketing.net/websales/pages/TicketSearchCriteria.aspx?evtInfo=621280~99f4e122-4b84-4e20-8248-80514901e7da&\n\nA happily engaged couple is put to the test when an unexpected turn sends their wedding week off the rails.
DTSTART:20260427T233500Z
DTEND:20260428T013000Z
LOCATION:Theater 3, 20 South Court Street, Athens, OH, 45701
SUMMARY:The Drama
UID:621280
DTSTAMP:20260424T080542Z
END:VEVENT
END:VCALENDAR
