BEGIN:VCALENDAR
BEGIN:VEVENT
DESCRIPTION:\nMore Information: https://prod5.agileticketing.net/websales/pages/TicketSearchCriteria.aspx?evtInfo=621282~99f4e122-4b84-4e20-8248-80514901e7da&\n\nA happily engaged couple is put to the test when an unexpected turn sends their wedding week off the rails.
DTSTART:20260430T014500Z
DTEND:20260430T034000Z
LOCATION:Theater 2, 20 South Court Street, Athens, OH, 45701
SUMMARY:The Drama
UID:621282
DTSTAMP:20260424T080608Z
END:VEVENT
END:VCALENDAR
