BEGIN:VCALENDAR
BEGIN:VEVENT
DESCRIPTION:\nMore Information: https://prod5.agileticketing.net/websales/pages/TicketSearchCriteria.aspx?evtInfo=621295~99f4e122-4b84-4e20-8248-80514901e7da&\n\nThe estranged children of a once-famous artist hire a forger to complete his unfinished works so they can be "discovered" and sold after his death.
DTSTART:20260426T231500Z
DTEND:20260427T010500Z
LOCATION:Theater 3, 20 South Court Street, Athens, OH, 45701
SUMMARY:The Christophers
UID:621295
DTSTAMP:20260424T080734Z
END:VEVENT
END:VCALENDAR
