BEGIN:VCALENDAR
BEGIN:VEVENT
DESCRIPTION:\nMore Information: https://prod5.agileticketing.net/websales/pages/TicketSearchCriteria.aspx?evtInfo=621299~99f4e122-4b84-4e20-8248-80514901e7da&\n\nThe estranged children of a once-famous artist hire a forger to complete his unfinished works so they can be "discovered" and sold after his death.
DTSTART:20260429T230000Z
DTEND:20260430T005000Z
LOCATION:Theater 3, 20 South Court Street, Athens, OH, 45701
SUMMARY:The Christophers
UID:621299
DTSTAMP:20260424T080459Z
END:VEVENT
END:VCALENDAR
